BEGIN:VCALENDAR
VERSION:2.0
PRODID:-//BrotZeit &amp; Spiele - ECPv6.15.13//NONSGML v1.0//EN
CALSCALE:GREGORIAN
METHOD:PUBLISH
X-WR-CALNAME:BrotZeit &amp; Spiele
X-ORIGINAL-URL:https://brotzeitundspiele.de
X-WR-CALDESC:Veranstaltungen für BrotZeit &amp; Spiele
REFRESH-INTERVAL;VALUE=DURATION:PT1H
X-Robots-Tag:noindex
X-PUBLISHED-TTL:PT1H
BEGIN:VTIMEZONE
TZID:Europe/Berlin
BEGIN:DAYLIGHT
TZOFFSETFROM:+0100
TZOFFSETTO:+0200
TZNAME:CEST
DTSTART:20250330T010000
END:DAYLIGHT
BEGIN:STANDARD
TZOFFSETFROM:+0200
TZOFFSETTO:+0100
TZNAME:CET
DTSTART:20251026T010000
END:STANDARD
BEGIN:DAYLIGHT
TZOFFSETFROM:+0100
TZOFFSETTO:+0200
TZNAME:CEST
DTSTART:20260329T010000
END:DAYLIGHT
BEGIN:STANDARD
TZOFFSETFROM:+0200
TZOFFSETTO:+0100
TZNAME:CET
DTSTART:20261025T010000
END:STANDARD
BEGIN:DAYLIGHT
TZOFFSETFROM:+0100
TZOFFSETTO:+0200
TZNAME:CEST
DTSTART:20270328T010000
END:DAYLIGHT
BEGIN:STANDARD
TZOFFSETFROM:+0200
TZOFFSETTO:+0100
TZNAME:CET
DTSTART:20271031T010000
END:STANDARD
END:VTIMEZONE
BEGIN:VEVENT
DTSTART;TZID=Europe/Berlin:20260419T190000
DTEND;TZID=Europe/Berlin:20260419T210000
DTSTAMP:20260421T135740
CREATED:20260101T012014Z
LAST-MODIFIED:20260106T230733Z
UID:11565-1776625200-1776632400@brotzeitundspiele.de
SUMMARY:Luise Kinseher
DESCRIPTION:Luise Kinseher\n\n\n\nBad Aibling Kurhaus19.04.2026 | 19 Uhr \n\n\n\n„Mary from Bavary“ \n\n\n\n\nTICKETS
URL:https://brotzeitundspiele.de/veranstaltung/luise-kinseher-2/
CATEGORIES:april26,bad-aibling26
ATTACH;FMTTYPE=image/jpeg:https://brotzeitundspiele.de/wp-content/uploads/2025/11/Kinseher.jpg
END:VEVENT
BEGIN:VEVENT
DTSTART;TZID=Europe/Berlin:20260418T200000
DTEND;TZID=Europe/Berlin:20260418T220000
DTSTAMP:20260421T135740
CREATED:20260101T012514Z
LAST-MODIFIED:20260106T230755Z
UID:11635-1776542400-1776549600@brotzeitundspiele.de
SUMMARY:Franziska Wanninger
DESCRIPTION:Franziska Wanninger\n\n\n\nGrafing Stadthalle18.04.2026 | 20:00 Uhr \n\n\n\n„Wenn du wen brauchst\, ruf mich nicht an“ \n\n\n\n\nTICKETS
URL:https://brotzeitundspiele.de/veranstaltung/franziska-wanninger-2/
CATEGORIES:april26,grafing26
ATTACH;FMTTYPE=image/jpeg:https://brotzeitundspiele.de/wp-content/uploads/2025/11/FranziskaWanninger.jpg
END:VEVENT
BEGIN:VEVENT
DTSTART;TZID=Europe/Berlin:20260416T200000
DTEND;TZID=Europe/Berlin:20260416T220000
DTSTAMP:20260421T135740
CREATED:20260101T013019Z
LAST-MODIFIED:20260107T104824Z
UID:11609-1776369600-1776376800@brotzeitundspiele.de
SUMMARY:Stefan Kröll
DESCRIPTION:Stefan Kröll\n\n\n\nMünsing Pallaufsaal16.04.2026 | 20 Uhr \n\n\n\n„Schee wuid“ \n\n\n\n\nTICKETS
URL:https://brotzeitundspiele.de/veranstaltung/stefan-kroell-2/
CATEGORIES:april26,muensing26
ATTACH;FMTTYPE=image/jpeg:https://brotzeitundspiele.de/wp-content/uploads/2025/11/Kroell.jpg
END:VEVENT
BEGIN:VEVENT
DTSTART;TZID=Europe/Berlin:20260326T200000
DTEND;TZID=Europe/Berlin:20260326T220000
DTSTAMP:20260421T135740
CREATED:20260101T013504Z
LAST-MODIFIED:20260106T230833Z
UID:12111-1774555200-1774562400@brotzeitundspiele.de
SUMMARY:Ami Warning & Martin Kälberer
DESCRIPTION:Ami Warning & Martin Kälberer\n\n\n\nKurhaus Bad Aibling26.03.2026 | 20 Uhr \n\n\n\nNachholtermin vom 25.10.2025„DOPPELKONZERT“ \n\n\n\n\nTICKETS
URL:https://brotzeitundspiele.de/veranstaltung/ami-warning-matthew-austin/
CATEGORIES:bad-aibling26,maerz26,nachhol
ATTACH;FMTTYPE=image/jpeg:https://brotzeitundspiele.de/wp-content/uploads/2025/11/AmiKaelberer-Doppelkonzert-Toelz-Pallauf.jpg
END:VEVENT
BEGIN:VEVENT
DTSTART;TZID=Europe/Berlin:20260321T200000
DTEND;TZID=Europe/Berlin:20260321T220000
DTSTAMP:20260421T135740
CREATED:20260101T014019Z
LAST-MODIFIED:20260106T230846Z
UID:11557-1774123200-1774130400@brotzeitundspiele.de
SUMMARY:Ami Warning & Matthew Austin
DESCRIPTION:Ami Warning & Matthew Austin\n\n\n\nWeilheim Stadttheater21.03.2026 | 20 Uhr \n\n\n\n„DOPPELKONZERT“ \n\n\n\n\nTICKETS
URL:https://brotzeitundspiele.de/veranstaltung/ami-warning-3/
CATEGORIES:maerz26,weilheim26
ATTACH;FMTTYPE=image/jpeg:https://brotzeitundspiele.de/wp-content/uploads/2025/11/AmiAustin-Doppelkonzert-WM.jpg
END:VEVENT
BEGIN:VEVENT
DTSTART;TZID=Europe/Berlin:20260320T200000
DTEND;TZID=Europe/Berlin:20260320T220000
DTSTAMP:20260421T135740
CREATED:20260101T014554Z
LAST-MODIFIED:20260106T230908Z
UID:11546-1774036800-1774044000@brotzeitundspiele.de
SUMMARY:Ami Warning & Martin Kälberer 
DESCRIPTION:Ami Warning & Martin Kälberer \n\n\n\nBad Tölz Kurhaus20.03.2026 | 20 Uhr \n\n\n\n„DOPPELKONZERT“ \n\n\n\n\nTICKETS
URL:https://brotzeitundspiele.de/veranstaltung/ami-warning/
CATEGORIES:bad-toelz26,maerz26
ATTACH;FMTTYPE=image/jpeg:https://brotzeitundspiele.de/wp-content/uploads/2025/11/AmiKaelberer-Doppelkonzert-Toelz-Pallauf.jpg
END:VEVENT
BEGIN:VEVENT
DTSTART;TZID=Europe/Berlin:20260319T200000
DTEND;TZID=Europe/Berlin:20260319T220000
DTSTAMP:20260421T135740
CREATED:20260101T015500Z
LAST-MODIFIED:20260107T092019Z
UID:11592-1773950400-1773957600@brotzeitundspiele.de
SUMMARY:Vier im Turm
DESCRIPTION:Vier im Turm\n\n\n\nGrafing Turmstube19.03.2026 | 20 Uhr \n\n\n\n„Katz im Sack“ \n\n\n\n\nTICKETS
URL:https://brotzeitundspiele.de/veranstaltung/vier-im-turm-6/
CATEGORIES:maerz26,vierimturm26
ATTACH;FMTTYPE=image/jpeg:https://brotzeitundspiele.de/wp-content/uploads/2025/11/Vier-im-Turm-19-03-26.jpg
END:VEVENT
BEGIN:VEVENT
DTSTART;TZID=Europe/Berlin:20260319T200000
DTEND;TZID=Europe/Berlin:20260319T220000
DTSTAMP:20260421T135740
CREATED:20260101T015004Z
LAST-MODIFIED:20260106T230930Z
UID:11653-1773950400-1773957600@brotzeitundspiele.de
SUMMARY:Christine Eixenberger
DESCRIPTION:Christine Eixenberger\n\n\n\nBad Aibling Kurhaus19.03.2026 | 20 Uhr \n\n\n\n„Volle Kontrolle“ \n\n\n\n\nTICKETS
URL:https://brotzeitundspiele.de/veranstaltung/christine-eixenberger/
CATEGORIES:bad-aibling26,maerz26
ATTACH;FMTTYPE=image/jpeg:https://brotzeitundspiele.de/wp-content/uploads/2025/11/Eixi.jpg
END:VEVENT
BEGIN:VEVENT
DTSTART;TZID=Europe/Berlin:20260314T080000
DTEND;TZID=Europe/Berlin:20260314T170000
DTSTAMP:20260421T135740
CREATED:20260101T020013Z
LAST-MODIFIED:20260106T231008Z
UID:11552-1773475200-1773507600@brotzeitundspiele.de
SUMMARY:Ami Warning & Martin Kälberer
DESCRIPTION:Ami Warning & Martin Kälberer\n\n\n\nMünsing Pallaufsaal14.03.2026 | 20 Uhr \n\n\n\n„DOPPELKONZERT“ \n\n\n\n\nTICKETS
URL:https://brotzeitundspiele.de/veranstaltung/ami-warning-2/
CATEGORIES:maerz26,muensing26
ATTACH;FMTTYPE=image/jpeg:https://brotzeitundspiele.de/wp-content/uploads/2025/11/AmiKaelberer-Doppelkonzert-Toelz-Pallauf.jpg
END:VEVENT
BEGIN:VEVENT
DTSTART;TZID=Europe/Berlin:20260307T200000
DTEND;TZID=Europe/Berlin:20260307T220000
DTSTAMP:20260421T135740
CREATED:20260101T020557Z
LAST-MODIFIED:20260106T231035Z
UID:11625-1772913600-1772920800@brotzeitundspiele.de
SUMMARY:Keller Steff
DESCRIPTION:Keller Steff\n\n\n\nBad Aibling Kurhaus07.03.2026 | 20:00 Uhr \n\n\n\n„Des schau ma uns Oh“ \n\n\n\n\nTICKETS
URL:https://brotzeitundspiele.de/veranstaltung/keller-steff-5/
CATEGORIES:bad-aibling26,maerz26
ATTACH;FMTTYPE=image/jpeg:https://brotzeitundspiele.de/wp-content/uploads/2025/11/KellerSteff.jpg
END:VEVENT
BEGIN:VEVENT
DTSTART;TZID=Europe/Berlin:20260306T200000
DTEND;TZID=Europe/Berlin:20260306T220000
DTSTAMP:20260421T135740
CREATED:20260101T021533Z
LAST-MODIFIED:20260106T231048Z
UID:11633-1772827200-1772834400@brotzeitundspiele.de
SUMMARY:Kapelle So & So
DESCRIPTION:Kapelle So&So\n\n\n\nGrafing Stadttheater06.03.2025 | 20:00 Uhr \n\n\n\n„Trompetuum Mobile“ \n\n\n\n\nTICKETS
URL:https://brotzeitundspiele.de/veranstaltung/kapelle-so-so/
CATEGORIES:grafing26,maerz26
ATTACH;FMTTYPE=image/jpeg:https://brotzeitundspiele.de/wp-content/uploads/2025/11/Kapelle.jpg
END:VEVENT
END:VCALENDAR